BEGIN:VCALENDAR
VERSION:2.0
PRODID:-//Promenade on Providence - ECPv6.11.0.1//NONSGML v1.0//EN
CALSCALE:GREGORIAN
METHOD:PUBLISH
X-ORIGINAL-URL:https://promenadeonprovidence.com
X-WR-CALDESC:Events for Promenade on Providence
REFRESH-INTERVAL;VALUE=DURATION:PT1H
X-Robots-Tag:noindex
X-PUBLISHED-TTL:PT1H
BEGIN:VTIMEZONE
TZID:America/New_York
BEGIN:DAYLIGHT
TZOFFSETFROM:-0500
TZOFFSETTO:-0400
TZNAME:EDT
DTSTART:20240310T070000
END:DAYLIGHT
BEGIN:STANDARD
TZOFFSETFROM:-0400
TZOFFSETTO:-0500
TZNAME:EST
DTSTART:20241103T060000
END:STANDARD
END:VTIMEZONE
BEGIN:VEVENT
DTSTART;TZID=America/New_York:20240816T170000
DTEND;TZID=America/New_York:20240816T213000
DTSTAMP:20260423T192903
CREATED:20240703T145817Z
LAST-MODIFIED:20240731T152813Z
UID:15427-1723827600-1723843800@promenadeonprovidence.com
SUMMARY:Back to School Movie Night
DESCRIPTION:Come join us Friday\, August 16th for a fun back to school night on The Green! \nFrom 5-7PM\, we’ll have live music performed by Caution! Blind Driver. Grab some food afterwards from one of Promenade’s delicious restaurants and then head back over to The Green from 8-9:30PM for a movie screening of “Elemental.” We’ll also be gathering school supplies for Classroom Central so don’t forget to swing by Staples at Promenade to gather your donations beforehand. See you there! 🎬📚✨
URL:https://promenadeonprovidence.com/event/back-to-school-movie-night-2/
CATEGORIES:Movies
ATTACH;FMTTYPE=image/jpeg:https://promenadeonprovidence.com/wp-content/uploads/2024/07/Promenade_BacktoSchoolMovieNight_Digital_FB_EventCover-scaled.jpg
END:VEVENT
END:VCALENDAR