BEGIN:VCALENDAR
VERSION:2.0
PRODID:-//Promenade on Providence - ECPv6.11.0.1//NONSGML v1.0//EN
CALSCALE:GREGORIAN
METHOD:PUBLISH
X-WR-CALNAME:Promenade on Providence
X-ORIGINAL-URL:https://promenadeonprovidence.com
X-WR-CALDESC:Events for Promenade on Providence
REFRESH-INTERVAL;VALUE=DURATION:PT1H
X-Robots-Tag:noindex
X-PUBLISHED-TTL:PT1H
BEGIN:VTIMEZONE
TZID:UTC
BEGIN:STANDARD
TZOFFSETFROM:+0000
TZOFFSETTO:+0000
TZNAME:UTC
DTSTART:20240101T000000
END:STANDARD
END:VTIMEZONE
BEGIN:VEVENT
DTSTART;TZID=UTC:20241025T170000
DTEND;TZID=UTC:20241025T210000
DTSTAMP:20260423T163910
CREATED:20240215T145604Z
LAST-MODIFIED:20240912T140327Z
UID:15307-1729875600-1729890000@promenadeonprovidence.com
SUMMARY:Goodies & Goblins at Promenade
DESCRIPTION:Get ready for our Goodies & Goblins event on Friday\, October 25th! Grab your most creative costumes and join us for an early round of trick-or-treating from 5 PM to 6:30 PM. The fun doesn’t stop there; we’re hosting a screening of the beloved classic\, “Casper” on The Green at 6:45 PM/Sunset. It’s a night of family-friendly frights and fantastic treats you won’t want to miss. See you there\, if you dare!
URL:https://promenadeonprovidence.com/event/goodies-goblins-at-promenade/
CATEGORIES:Movies
ATTACH;FMTTYPE=image/jpeg:https://promenadeonprovidence.com/wp-content/uploads/2024/09/Promenade_Halloween_2024_Digital_155x777_FNL-scaled.jpg
END:VEVENT
END:VCALENDAR