BEGIN:VCALENDAR
VERSION:2.0
PRODID:-//Promenade on Providence - ECPv6.11.0.1//NONSGML v1.0//EN
CALSCALE:GREGORIAN
METHOD:PUBLISH
X-WR-CALNAME:Promenade on Providence
X-ORIGINAL-URL:https://promenadeonprovidence.com
X-WR-CALDESC:Events for Promenade on Providence
REFRESH-INTERVAL;VALUE=DURATION:PT1H
X-Robots-Tag:noindex
X-PUBLISHED-TTL:PT1H
BEGIN:VTIMEZONE
TZID:UTC
BEGIN:STANDARD
TZOFFSETFROM:+0000
TZOFFSETTO:+0000
TZNAME:UTC
DTSTART:20250101T000000
END:STANDARD
END:VTIMEZONE
BEGIN:VEVENT
DTSTART;TZID=UTC:20250815T200000
DTEND;TZID=UTC:20250815T213000
DTSTAMP:20260421T100855
CREATED:20250715T183221Z
LAST-MODIFIED:20250715T183221Z
UID:15823-1755288000-1755293400@promenadeonprovidence.com
SUMMARY:Back to School Movie Night
DESCRIPTION:Join us at Promenade on Friday\, August 15 for a fun-filled Back to School Movie Night under the stars! From 8:00 to 9:30 PM\, we’ll be screening the beloved classic Matilda at sundown—bring your blankets\, lawn chairs\, and favorite snacks for a cozy night with the family. \nWe’re also proud to support Classroom Central with a school supply drive to help local students start the year strong. If you’d like to donate\, the top nine most-needed items are:\n✏️ Pencils\n🖍️ Crayons\n🖊️ Colored Markers\n📓 Composition Books\n🧼 Dry Erase Markers\n📄 Filler Paper\n🟨 Highlighters\n📎 Pocket Folders\n🧴 Glue Sticks \nFollow us on social @PromenadeOnProvidence for event updates and weather announcements. Let’s kick off the school year with community\, kindness\, and a little movie magic!
URL:https://promenadeonprovidence.com/event/back-to-school-movie-night/
CATEGORIES:Movies
ATTACH;FMTTYPE=image/jpeg:https://promenadeonprovidence.com/wp-content/uploads/2025/07/Promenade_BacktoSchoolMovieNight_2025_Digital_FB_Eblast_Website_Cover.jpg
END:VEVENT
END:VCALENDAR