BEGIN:VCALENDAR
VERSION:2.0
PRODID:-//Promenade on Providence - ECPv6.11.0.1//NONSGML v1.0//EN
CALSCALE:GREGORIAN
METHOD:PUBLISH
X-ORIGINAL-URL:https://promenadeonprovidence.com
X-WR-CALDESC:Events for Promenade on Providence
REFRESH-INTERVAL;VALUE=DURATION:PT1H
X-Robots-Tag:noindex
X-PUBLISHED-TTL:PT1H
BEGIN:VTIMEZONE
TZID:America/New_York
BEGIN:DAYLIGHT
TZOFFSETFROM:-0500
TZOFFSETTO:-0400
TZNAME:EDT
DTSTART:20190310T070000
END:DAYLIGHT
BEGIN:STANDARD
TZOFFSETFROM:-0400
TZOFFSETTO:-0500
TZNAME:EST
DTSTART:20191103T060000
END:STANDARD
BEGIN:DAYLIGHT
TZOFFSETFROM:-0500
TZOFFSETTO:-0400
TZNAME:EDT
DTSTART:20200308T070000
END:DAYLIGHT
BEGIN:STANDARD
TZOFFSETFROM:-0400
TZOFFSETTO:-0500
TZNAME:EST
DTSTART:20201101T060000
END:STANDARD
BEGIN:DAYLIGHT
TZOFFSETFROM:-0500
TZOFFSETTO:-0400
TZNAME:EDT
DTSTART:20210314T070000
END:DAYLIGHT
BEGIN:STANDARD
TZOFFSETFROM:-0400
TZOFFSETTO:-0500
TZNAME:EST
DTSTART:20211107T060000
END:STANDARD
END:VTIMEZONE
BEGIN:VEVENT
DTSTART;VALUE=DATE:20210521
DTEND;VALUE=DATE:20210522
DTSTAMP:20260421T101814
CREATED:20210329T091447Z
LAST-MODIFIED:20210329T091447Z
UID:4458-1621555200-1621641599@promenadeonprovidence.com
SUMMARY:Promenade Movie Series: Star Wars The Rise of Sky Walker
DESCRIPTION:[blox_button text=”MORE INFORMATION” link=”https://promenadeonprovidence.com/events/spring-movie-series-at-promenade-on-providence/” target=”_blank” button_type=”btn btn-primary btn-sm” icon=”” size=”btn-md” /]
URL:https://promenadeonprovidence.com/event/promenade-movie-series-star-wars-the-rise-of-sky-walker/
CATEGORIES:Movies
END:VEVENT
BEGIN:VEVENT
DTSTART;VALUE=DATE:20210423
DTEND;VALUE=DATE:20210424
DTSTAMP:20260421T101814
CREATED:20210329T091226Z
LAST-MODIFIED:20210329T091226Z
UID:4455-1619136000-1619222399@promenadeonprovidence.com
SUMMARY:Promenade Movie Series: Toy Story 4
DESCRIPTION:[blox_button text=”MORE INFORMATION” link=”https://promenadeonprovidence.com/events/spring-movie-series-at-promenade-on-providence/” target=”_blank” button_type=”btn btn-primary btn-sm” icon=”” size=”btn-md” /]
URL:https://promenadeonprovidence.com/event/promenade-movie-series-toy-story-4/
CATEGORIES:Movies
END:VEVENT
BEGIN:VEVENT
DTSTART;TZID=America/New_York:20190920T180000
DTEND;TZID=America/New_York:20190920T220000
DTSTAMP:20260421T101814
CREATED:20190301T144157Z
LAST-MODIFIED:20190301T144157Z
UID:3353-1569002400-1569016800@promenadeonprovidence.com
SUMMARY:Movies on the Green - The Incredibles 2
DESCRIPTION:*Movie will begin at 7:30pm
URL:https://promenadeonprovidence.com/event/movies-on-the-green-the-incredibles-2/
CATEGORIES:Movies
END:VEVENT
BEGIN:VEVENT
DTSTART;TZID=America/New_York:20190621T190000
DTEND;TZID=America/New_York:20190621T220000
DTSTAMP:20260421T101814
CREATED:20190301T142955Z
LAST-MODIFIED:20190301T142955Z
UID:3299-1561143600-1561154400@promenadeonprovidence.com
SUMMARY:Movies on the Green - Despicable Me 3
DESCRIPTION:*Movie will begin at dusk.
URL:https://promenadeonprovidence.com/event/movies-on-the-green-despicable-3/
CATEGORIES:Movies
ATTACH;FMTTYPE=image/jpeg:https://promenadeonprovidence.com/wp-content/uploads/2019/05/Promenade_Despicable-Me_Web-Event.jpg
END:VEVENT
END:VCALENDAR